BEGIN:VCALENDAR
METHOD:PUBLISH
PRODID:-//Weblication CMS
VERSION:2.0
BEGIN:VTIMEZONE
TZID:Europe/Berlin
X-LIC-LOCATION:Europe/Berlin
BEGIN:DAYLIGHT
TZOFFSETFROM:+0100
TZOFFSETTO:+0200
TZNAME:CEST
DTSTART:19700329T020000
RRULE:FREQ=YEARLY;BYMONTH=3;BYDAY=-1SU
END:DAYLIGHT
BEGIN:STANDARD
TZOFFSETFROM:+0200
TZOFFSETTO:+0100
TZNAME:CET
DTSTART:19701025T030000
RRULE:FREQ=YEARLY;BYMONTH=10;BYDAY=-1SU
END:STANDARD
END:VTIMEZONE
BEGIN:VEVENT
SUMMARY:Klavierabend mit Gabriel Miltschitzky
DTSTART;TZID=Europe/Berlin:20260306T193000
DTEND;TZID=Europe/Berlin:20260306T210000
DESCRIPTION:Gesprächskonzert mit Werken von Ravel, Debussy, Prokofiev, Shostakovic - Kartenvorbestellung (Preis pro Karte: 20 €, erm. 15 €): ticketsmusikhierundjetzt@t-online.de. Bitte geben Sie unbedingt an, auf welches Konzert sich die Vorbestellung bezieht.
LOCATION:Museum für zeitgenössische Kunst
UID:https://mzk-diku.de/de/veranstaltungen/termine/2026-03-06-Klavierabend-Gabriel.php?uid=267123c73fe3472083b4079a29fdbd76
URL:https://mzk-diku.de/de/veranstaltungen/termine/2026-03-06-Klavierabend-Gabriel.php
END:VEVENT
END:VCALENDAR