BEGIN:VCALENDAR
METHOD:PUBLISH
PRODID:-//Weblication CMS
VERSION:2.0
BEGIN:VTIMEZONE
TZID:Europe/Berlin
X-LIC-LOCATION:Europe/Berlin
BEGIN:DAYLIGHT
TZOFFSETFROM:+0100
TZOFFSETTO:+0200
TZNAME:CEST
DTSTART:19700329T020000
RRULE:FREQ=YEARLY;BYMONTH=3;BYDAY=-1SU
END:DAYLIGHT
BEGIN:STANDARD
TZOFFSETFROM:+0200
TZOFFSETTO:+0100
TZNAME:CET
DTSTART:19701025T030000
RRULE:FREQ=YEARLY;BYMONTH=10;BYDAY=-1SU
END:STANDARD
END:VTIMEZONE
BEGIN:VEVENT
SUMMARY:Manfred Scharpf - Vorstellung des neuesten Werkes &quot;Quartett&quot;
DTSTART;TZID=Europe/Berlin:20260308T150000
DTEND;TZID=Europe/Berlin:20260308T160000
DESCRIPTION:Ein aktuell vollendetes Werk mit dem Titel "Quartett" wird zum Mittelpunkt einer Präsentation. In dem vierteiligen Zyklus „Quartett“ geht es um die Musik, die im Schaffen des Malers seit jeher eine bedeutende inspirierende Kraft bildet. Doch nicht nur dies ist das Thema, sondern auch die menschlichen Fähigkeiten vor allem die künstlerischen, mit Hilfe derer aus Tönen ein Kunstwerk entsteht. Es ist auch eine Verbeugung des Malers vor dem, was den Menschen zum Menschen erhebt. Das Quartett bleibt nach der Vorstellung für eine Woche im Museum. 
LOCATION:Museum für zeitgenössische Kunst
UID:https://mzk-diku.de/de/veranstaltungen/termine/2026-03-08-Manfred-Scharpf-Unvollendet.php?uid=6e998b7ea3ac2c495c60ca8a13fbdabf
URL:https://mzk-diku.de/de/veranstaltungen/termine/2026-03-08-Manfred-Scharpf-Unvollendet.php
END:VEVENT
END:VCALENDAR